BEGIN:VCALENDAR
VERSION:2.0
PRODID:-//ChamberMaster//Event Calendar 2.0//EN
METHOD:PUBLISH
X-PUBLISHED-TTL:P3D
REFRESH-INTERVAL:P3D
CALSCALE:GREGORIAN
BEGIN:VEVENT
DTSTART:20110210T233000Z
DTEND:20110210T233000Z
X-MICROSOFT-CDO-ALLDAYEVENT:FALSE
SUMMARY:Edible Arrangements Grand Opening and Ribbon Cutting
DESCRIPTION:Join us as we celebrate the grand opening of Edible Arrangements. This location is open 7 days a week with same day delivery or anytime for immediate pick-up of a bouquet of fresh cut\, beautifully arranged fruit.  Dipped fruit and beverages will be available at the event.
X-ALT-DESC;FMTTYPE=text/html:Join us as we celebrate the grand opening of Edible Arrangements. This location is open 7 days a week with same day delivery or anytime for immediate pick-up of a bouquet of fresh cut\, beautifully arranged fruit.  Dipped fruit and beverages will be available at the event.
LOCATION:
UID:e.1828.2884
SEQUENCE:3
DTSTAMP:20260421T155050Z
URL:https://business.harlingen.com/events/details/edible-arrangements-grand-opening-and-ribbon-cutting-02-10-2011-2884
END:VEVENT

END:VCALENDAR
