BEGIN:VCALENDAR
VERSION:2.0
PRODID:-//ChamberMaster//Event Calendar 2.0//EN
METHOD:PUBLISH
X-PUBLISHED-TTL:P3D
REFRESH-INTERVAL:P3D
CALSCALE:GREGORIAN
BEGIN:VEVENT
DTSTART:20121011T140000Z
DTEND:20121011T170000Z
X-MICROSOFT-CDO-ALLDAYEVENT:FALSE
SUMMARY:Education and Career Expo!!
DESCRIPTION:This event features interactive\, hands-on exhibits which showcase your business\, organization or post-secondary educational program to almost 1700 high school students from across the valley.\n\nTime:  9:00 a.m. - 12:00 noon \nPlace:  Casa De Amistad \n\nFor more information\, please contact Martha Gutierrez\, Tech Prep of The Rio Grande Valley at (956) 364-4509 or Kathy Wolf at the Harlingen Chamber of Commerce (956) 423-5565 ext. 212.
X-ALT-DESC;FMTTYPE=text/html:This event features interactive\, hands-on exhibits which showcase your business\, organization or post-secondary educational program to almost 1700 high school students from across the valley.\n\nTime:  9:00 a.m. - 12:00 noon \nPlace:  Casa De Amistad \n\nFor more information\, please contact Martha Gutierrez\, Tech Prep of The Rio Grande Valley at (956) 364-4509 or Kathy Wolf at the Harlingen Chamber of Commerce (956) 423-5565 ext. 212. \n\n \n
LOCATION:
UID:e.1828.3907
SEQUENCE:3
DTSTAMP:20260420T085644Z
URL:https://business.harlingen.com/events/details/education-and-career-expo-10-11-2012-3907
END:VEVENT

END:VCALENDAR
