BEGIN:VCALENDAR
VERSION:2.0
PRODID:-//ChamberMaster//Event Calendar 2.0//EN
METHOD:PUBLISH
X-PUBLISHED-TTL:P3D
REFRESH-INTERVAL:P3D
CALSCALE:GREGORIAN
BEGIN:VEVENT
DTSTART:20111013T140000Z
DTEND:20111013T170000Z
X-MICROSOFT-CDO-ALLDAYEVENT:FALSE
SUMMARY:Education EXPO Career (Save the Date)
DESCRIPTION:Discover Educational & Career Opportunities \nSponsorship opportunities available.\nFor more information\, please contact the Harlingen Chamber of Commerce (Kathy Wolf) at 956.423.5440 or Tech Prep of the Rio Grande Valley\, Inc. (Carolina Duran/Martha Gutierrez) at 956.364.4509.
X-ALT-DESC;FMTTYPE=text/html:Discover Educational & Career Opportunities \nSponsorship opportunities available.\nFor more information\, please contact the Harlingen Chamber of Commerce (Kathy Wolf) at 956.423.5440 or Tech Prep of the Rio Grande Valley\, Inc. (Carolina Duran/Martha Gutierrez) at 956.364.4509. \n
LOCATION:Casa de Amistad building is located on Fair Park Blvd.
UID:e.1828.3152
SEQUENCE:3
DTSTAMP:20260421T034215Z
URL:https://business.harlingen.com/events/details/education-expo-career-save-the-date-10-13-2011-3152
END:VEVENT

END:VCALENDAR
