BEGIN:VCALENDAR
VERSION:2.0
PRODID:-//ChamberMaster//Event Calendar 2.0//EN
METHOD:PUBLISH
X-PUBLISHED-TTL:P3D
REFRESH-INTERVAL:P3D
CALSCALE:GREGORIAN
BEGIN:VEVENT
DTSTART:20110421T223000Z
DTEND:20110421T223000Z
X-MICROSOFT-CDO-ALLDAYEVENT:FALSE
SUMMARY:Edwards Abstract & Title Co. Ribbon Cutting
DESCRIPTION:Come celebrate the ribbon cutting ceremony of Edwards Abstract & Title Co.'s new location. Adult beverages and munchies will be served. Edwards Abstract & Title Co. specializes in Title Insurance and Real Estate Closing Services.
X-ALT-DESC;FMTTYPE=text/html:Come celebrate the ribbon cutting ceremony of Edwards Abstract & Title Co.'s new location. Adult beverages and munchies will be served. Edwards Abstract & Title Co. specializes in Title Insurance and Real Estate Closing Services.     \n
LOCATION:
UID:e.1828.3005
SEQUENCE:3
DTSTAMP:20260421T124435Z
URL:https://business.harlingen.com/events/details/edwards-abstract-title-co-ribbon-cutting-04-21-2011-3005
END:VEVENT

END:VCALENDAR
