BEGIN:VCALENDAR
VERSION:2.0
PRODID:-//ChamberMaster//Event Calendar 2.0//EN
METHOD:PUBLISH
X-PUBLISHED-TTL:P3D
REFRESH-INTERVAL:P3D
CALSCALE:GREGORIAN
BEGIN:VEVENT
DTSTART:20110511T140000Z
DTEND:20110511T170000Z
X-MICROSOFT-CDO-ALLDAYEVENT:FALSE
SUMMARY:EMPLOYEES 101 Workshop
DESCRIPTION:EMPLOYEES 101\nWednesday\, May 11  9 a.m  - 12 p.m.\nChamber Board Room\n \nAre all your employment procedures in order?\nThis workshop covers:\nRequired Forms ~ Personnel Files ~ Applications and Background Checks ~ Employee Orientation and Development ~ Evaluating Employee  Performance ~ Progressive Discipline Strategies ~ The Termination Process
X-ALT-DESC;FMTTYPE=text/html:EMPLOYEES 101\nWednesday\, May 11  9 a.m  - 12 p.m.\nChamber Board Room\n \nAre all your employment procedures in order?\nThis workshop covers:\nRequired Forms ~ Personnel Files ~ Applications and Background Checks ~ Employee Orientation and Development ~ Evaluating Employee  Performance ~ Progressive Discipline Strategies ~ The Termination Process \n  \n
LOCATION:
UID:e.1828.3050
SEQUENCE:3
DTSTAMP:20260421T110820Z
URL:https://business.harlingen.com/events/details/employees-101-workshop-05-11-2011-3050
END:VEVENT

END:VCALENDAR
