BEGIN:VCALENDAR
VERSION:2.0
PRODID:-//ChamberMaster//Event Calendar 2.0//EN
METHOD:PUBLISH
X-PUBLISHED-TTL:P3D
REFRESH-INTERVAL:P3D
CALSCALE:GREGORIAN
BEGIN:VEVENT
DTSTART:20120825T150000Z
DTEND:20120825T210000Z
X-MICROSOFT-CDO-ALLDAYEVENT:FALSE
SUMMARY:End of Summer Bash hosted by The UTB Alumni Association
DESCRIPTION:Ready for some FUN! Join us. Adults $10.00\, Children under 12 years of age $5.00\, register online at utb.edu/mixer\, includes beach access\, lunch\,games\,bouncers and music. For more information call Alumni Association at 956-882-4337\, utb.edu/alumni
X-ALT-DESC;FMTTYPE=text/html:Ready for some FUN! Join us. Adults $10.00\, Children under 12 years of age $5.00\, register online at utb.edu/mixer\, includes beach access\, lunch\,games\,bouncers and music. For more information call Alumni Association at 956-882-4337\, utb.edu/alumni
LOCATION:
UID:e.1828.3925
SEQUENCE:3
DTSTAMP:20260420T114540Z
URL:https://business.harlingen.com/events/details/end-of-summer-bash-hosted-by-the-utb-alumni-association-08-25-2012-3925
END:VEVENT

END:VCALENDAR
