BEGIN:VCALENDAR
VERSION:2.0
PRODID:-//ChamberMaster//Event Calendar 2.0//EN
METHOD:PUBLISH
X-PUBLISHED-TTL:P3D
REFRESH-INTERVAL:P3D
CALSCALE:GREGORIAN
BEGIN:VEVENT
DTSTART:20100728T150000Z
DTEND:20100728T170000Z
X-MICROSOFT-CDO-ALLDAYEVENT:FALSE
SUMMARY:Exclusive Open House for Chamber Members at Office Depot
DESCRIPTION:You're cordially invited to an exclusive OPEN HOUSE for Chamber members. Please stop by the Office Depot Open House to meet the store manager\, take a tour of the store\, enjoy tasty refreshments and a receive a FREE gift! (while supplies last) \n        \n        \n    \n    \n         \n        \n    \n    \n        WHEN: Wednesday\, July 28\, 2010 | 10:00 am - 12:00 pm \n        \n        \n    \n    \n         \n        \n    \n    \n        WHERE: At the newly remodeled Office Depot Store \n        \n        \n    \n    \n                      605 E. Expressway 83\, Harlingen (956) 421-2900 \n        \n        \n    \n    \n         \n        \n    \n    \n        RSVP: bdougherty@jkggroup.com \n        \n        \n    \n    \n         \n        \n    \n    \n        Click here to download a $10 off coupon. Valid only at the Harlingen location between 7/26/10 - 8/14/10.
X-ALT-DESC;FMTTYPE=text/html:<html xmlns:o= "urn:schemas-microsoft-com:office:office">\n<head>\n</head>\n<body>\n    <p class="MsoNormal" style="MARGIN: 0in 0in 0pt">\n        <span style="FONT-SIZE: 10pt\; COLOR: #857458\; FONT-FAMILY: 'Arial'\,'sans-serif'">You're cordially invited to an exclusive OPEN HOUSE for Chamber members. Please stop by the Office Depot Open House to meet the store manager\, take a tour of the store\, enjoy tasty refreshments and a receive a FREE gift! </span><span style="FONT-SIZE: 8pt\; COLOR: #857458\; FONT-FAMILY: 'Arial'\,'sans-serif'">(while supplies last)</span><span style="FONT-SIZE: 10pt\; COLOR: #857458\; FONT-FAMILY: 'Arial'\,'sans-serif'"> \n        <o:p></o:p>\n        </span>\n    </p>\n    <p class="MsoNormal" style="MARGIN: 0in 0in 0pt">\n        <span style="FONT-SIZE: 10pt\; COLOR: #857458\; FONT-FAMILY: 'Arial'\,'sans-serif'">&nbsp\;<o:p></o:p>\n        </span>\n    </p>\n    <p class="MsoNormal" style="MARGIN: 0in 0in 0pt">\n        <strong><span style="FONT-SIZE: 10pt\; COLOR: #990000\; FONT-FAMILY: 'Arial'\,'sans-serif'">WHEN:</span></strong><span style="FONT-SIZE: 10pt\; COLOR: #857458\; FONT-FAMILY: 'Arial'\,'sans-serif'"> <strong><span style="FONT-FAMILY: 'Arial'\,'sans-serif'">Wednesday\, July 28\, 2010&nbsp\;| 10:00 am - 12:00 pm</span></strong> \n        <o:p></o:p>\n        </span>\n    </p>\n    <p class="MsoNormal" style="MARGIN: 0in 0in 0pt">\n        <span style="FONT-SIZE: 10pt\; COLOR: #857458\; FONT-FAMILY: 'Arial'\,'sans-serif'">&nbsp\;<o:p></o:p>\n        </span>\n    </p>\n    <p class="MsoNormal" style="MARGIN: 0in 0in 0pt">\n        <strong><span style="FONT-SIZE: 10pt\; COLOR: #990000\; FONT-FAMILY: 'Arial'\,'sans-serif'">WHERE:</span></strong><span style="FONT-SIZE: 10pt\; COLOR: #857458\; FONT-FAMILY: 'Arial'\,'sans-serif'"> <strong><span style="FONT-FAMILY: 'Arial'\,'sans-serif'">At the newly&nbsp\;remodeled Office Depot Store</span></strong> \n        <o:p></o:p>\n        </span>\n    </p>\n    <p class="MsoNormal" style="MARGIN: 0in 0in 0pt">\n        <strong><span style="FONT-SIZE: 10pt\; COLOR: #857458\; FONT-FAMILY: 'Arial'\,'sans-serif'">&nbsp\;&nbsp\;&nbsp\;&nbsp\;&nbsp\;&nbsp\;&nbsp\;&nbsp\;&nbsp\;&nbsp\;&nbsp\;&nbsp\;&nbsp\; 605 E. Expressway 83\, Harlingen (956) 421-2900</span></strong><span style="FONT-SIZE: 10pt\; COLOR: #857458\; FONT-FAMILY: 'Arial'\,'sans-serif'"> \n        <o:p></o:p>\n        </span>\n    </p>\n    <p class="MsoNormal" style="MARGIN: 0in 0in 0pt">\n        <span style="FONT-SIZE: 10pt\; COLOR: #857458\; FONT-FAMILY: 'Arial'\,'sans-serif'">&nbsp\;<o:p></o:p>\n        </span>\n    </p>\n    <p class="MsoNormal" style="MARGIN: 0in 0in 0pt">\n        <strong><span style="FONT-SIZE: 10pt\; COLOR: #990000\; FONT-FAMILY: 'Arial'\,'sans-serif'">RSVP:</span></strong><span style="FONT-SIZE: 10pt\; COLOR: #857458\; FONT-FAMILY: 'Arial'\,'sans-serif'"> <a href="mailto:bdougherty@jkggroup.com" target="_blank" shape="rect"><strong><span style="FONT-FAMILY: 'Arial'\,'sans-serif'">bdougherty@jkggroup.com</span></strong></a> \n        <o:p></o:p>\n        </span>\n    </p>\n    <p class="MsoNormal" style="MARGIN: 0in 0in 0pt">\n        <span style="FONT-SIZE: 10pt\; COLOR: #857458\; FONT-FAMILY: 'Arial'\,'sans-serif'">&nbsp\;<o:p></o:p>\n        </span>\n    </p>\n    <p class="MsoNormal" style="MARGIN: 0in 0in 0pt">\n        <span style="FONT-SIZE: 10pt\; COLOR: #857458\; FONT-FAMILY: 'Arial'\,'sans-serif'"><a href="http://harlingentxcoc.weblinkconnect.com/cwt/external/wcpages/wcwebcontent/webcontentpage.aspx?contentid=241">Click here to download a $10 off coupon.</a>&nbsp\;Valid only at the Harlingen location between 7/26/10 - 8/14/10. \n        <o:p></o:p>\n        </span>\n    </p>\n</body>\n</html>\n
LOCATION:
UID:e.1828.2618
SEQUENCE:3
DTSTAMP:20260422T015818Z
URL:https://business.harlingen.com/events/details/exclusive-open-house-for-chamber-members-at-office-depot-07-28-2010-2618
END:VEVENT

END:VCALENDAR
