BEGIN:VCALENDAR
VERSION:2.0
PRODID:-//ChamberMaster//Event Calendar 2.0//EN
METHOD:PUBLISH
X-PUBLISHED-TTL:P3D
REFRESH-INTERVAL:P3D
CALSCALE:GREGORIAN
BEGIN:VEVENT
DTSTART:20100128T140000Z
DTEND:20100129T230000Z
X-MICROSOFT-CDO-ALLDAYEVENT:FALSE
SUMMARY:Existing Homes
DESCRIPTION:This course will prepare people to perform comprehensive home\nenergy audits. Attendees will learn:\n• why improving energy efficiency in existing homes is\ncritical to the future of our country\n• what the existing homes market looks like\n• overview of federal programs designed to improve\nexisting homes\n• how to perform comprehensive home energy audits\nThis course is offered in collaboration with The University of\nTexas at Brownsville and Texas Southmost College.\nThe least expensive way to become a great Auditor is to be\ntrained by a great Trainer!\nThis two day course is scheduled for Thursday\, January 28th\nand Friday\, January 29th. 12 hours of RESNET CE credits!\n$325.00
X-ALT-DESC;FMTTYPE=text/html:This course will prepare people to perform comprehensive home\nenergy audits. Attendees will learn:\n• why improving energy efficiency in existing homes is\ncritical to the future of our country\n• what the existing homes market looks like\n• overview of federal programs designed to improve\nexisting homes\n• how to perform comprehensive home energy audits\nThis course is offered in collaboration with The University of\nTexas at Brownsville and Texas Southmost College.\nThe least expensive way to become a great Auditor is to be\ntrained by a great Trainer!\nThis two day course is scheduled for Thursday\, January 28th\nand Friday\, January 29th. 12 hours of RESNET CE credits!\n$325.00
LOCATION:1 Wallace Reed Road South Padre Island\, TX 78597-6401
UID:e.1828.2318
SEQUENCE:3
DTSTAMP:20260422T111521Z
URL:https://business.harlingen.com/events/details/existing-homes-01-28-2010-2318
END:VEVENT

END:VCALENDAR
