BEGIN:VCALENDAR
VERSION:2.0
PRODID:-//ChamberMaster//Event Calendar 2.0//EN
METHOD:PUBLISH
X-PUBLISHED-TTL:P3D
REFRESH-INTERVAL:P3D
CALSCALE:GREGORIAN
BEGIN:VEVENT
DTSTART;VALUE=DATE:20090827
DTEND;VALUE=DATE:20090921
TRANSP:TRANSPARENT
X-MICROSOFT-CDO-ALLDAYEVENT:TRUE
SUMMARY:Explore a ''World of Color'' at the Children's Museum of Brownsville
DESCRIPTION:The Children's Museum of Brownsville will host the exhibit ''World of Color'' by 14-year-old artist Itzel Cortinas Alvarez at the Future Artists of America Gallery from August 27 – September 20\, 2009.  The opening reception will take place on Community Night\, Thursday\, August 27\, from 5:00p.m. – 7:00p.m.  Admission is free to the public.\n\nItzel has been art student for approximately 9 years at Academia de Artes Visuales in Matamoros\, Mexico.  She has participated in numerous collective exhibits and international contests including: ''The Children's Bird Show'' at the \nBrownsville Museum of Fine Art \, ''Este es mi México'' sponsored by the Mexican Consulate in Brownsville and Mexican Ministry of Foreign Affairs and the ''Brownsville International Birding & Nature Festival'' Exhibit.  She also displayed her artwork numerous times at the Museo de Arte Contemporaneo de Tamaulipas (Tamaulipas Museum of Modern Art)  and Festival de Otoño (Fall Festival) in the neighboring city of Matamoros.\n\nFor more information on the exhibit ''World of Color'' or the Future Artists of America Gallery please call (956) 548-9300 or go to www.cmofbrownsville.com
X-ALT-DESC;FMTTYPE=text/html:The Children's Museum of Brownsville will host the exhibit ''World of Color'' by 14-year-old artist Itzel Cortinas Alvarez at the Future Artists of America Gallery from August 27 – September 20\, 2009.  The opening reception will take place on Community Night\, Thursday\, August 27\, from 5:00p.m. – 7:00p.m.  Admission is free to the public.\n\nItzel has been art student for approximately 9 years at Academia de Artes Visuales in Matamoros\, Mexico.  She has participated in numerous collective exhibits and international contests including: ''The Children's Bird Show'' at the \nBrownsville Museum of Fine Art \, ''Este es mi México'' sponsored by the Mexican Consulate in Brownsville and Mexican Ministry of Foreign Affairs and the ''Brownsville International Birding & Nature Festival'' Exhibit.  She also displayed her artwork numerous times at the Museo de Arte Contemporaneo de Tamaulipas (Tamaulipas Museum of Modern Art)  and Festival de Otoño (Fall Festival) in the neighboring city of Matamoros.\n\nFor more information on the exhibit ''World of Color'' or the Future Artists of America Gallery please call (956) 548-9300 or go to www.cmofbrownsville.com\n
LOCATION:
UID:e.1828.2022
SEQUENCE:3
DTSTAMP:20260422T081422Z
URL:https://business.harlingen.com/events/details/explore-a-world-of-color-at-the-children-s-museum-of-brownsville-08-27-2009-2022
END:VEVENT

END:VCALENDAR
