BEGIN:VCALENDAR
VERSION:2.0
PRODID:-//ChamberMaster//Event Calendar 2.0//EN
METHOD:PUBLISH
X-PUBLISHED-TTL:P3D
REFRESH-INTERVAL:P3D
CALSCALE:GREGORIAN
BEGIN:VEVENT
DTSTART:20100626T230000Z
DTEND:20100627T020000Z
X-MICROSOFT-CDO-ALLDAYEVENT:FALSE
SUMMARY:Fabulous 50s Sock Hop
DESCRIPTION:First United Methodist Church of Harlingen will host a Fabulous 50s Sock Hop Saturday\, June 26th from 6 to 9 p.m. The evening will consist of music\, a silent auction and much more. Tickets are $15 for singles\, $20 couples and $5 youth and are available at Bicycle World of Harlingen\, 1113 S. 77 Sunshine Strip from 10 a.m. to 6:30 p.m.\, and at First United Methodist Church\, 321 E. Harrision - Harlingen from 10 a.m. to 5 p.m. Tickets also will be available at the door. For more information\, call 956-423-0540 or email BD@FUMC.TV   Proceeds from the event benefit Ralph Salinas.
X-ALT-DESC;FMTTYPE=text/html:First United Methodist Church of Harlingen will host a Fabulous 50s Sock Hop Saturday\, June 26th from 6 to 9 p.m. The evening will consist of music\, a silent auction and much more. Tickets are $15 for singles\, $20 couples and $5 youth and are available at Bicycle World of Harlingen\, 1113 S. 77 Sunshine Strip from 10 a.m. to 6:30 p.m.\, and at First United Methodist Church\, 321 E. Harrision - Harlingen from 10 a.m. to 5 p.m. Tickets also will be available at the door. For more information\, call 956-423-0540 or email BD@FUMC.TV   Proceeds from the event benefit Ralph Salinas.\n\n \n
LOCATION:
UID:e.1828.2577
SEQUENCE:3
DTSTAMP:20260422T031107Z
URL:https://business.harlingen.com/events/details/fabulous-50s-sock-hop-06-26-2010-2577
END:VEVENT

END:VCALENDAR
