BEGIN:VCALENDAR
VERSION:2.0
PRODID:-//ChamberMaster//Event Calendar 2.0//EN
METHOD:PUBLISH
X-PUBLISHED-TTL:P3D
REFRESH-INTERVAL:P3D
CALSCALE:GREGORIAN
BEGIN:VEVENT
DTSTART:20120621T140000Z
DTEND:20120621T160000Z
X-MICROSOFT-CDO-ALLDAYEVENT:FALSE
SUMMARY:Facebook Marketing Seminar
DESCRIPTION:Learn about Facebook Marketing and how marketing online can help grow your business.  This is a free workshop presented by MPC Studios which will cover tips on how to market your business on Facebook and reach your target market.  To register\, please call the Chamber at (956) 423-5440.
X-ALT-DESC;FMTTYPE=text/html:Learn about Facebook Marketing and how marketing online can help grow your business.  This is a free workshop presented by MPC Studios which will cover tips on how to market your business on Facebook and reach your target market.  To register\, please call the Chamber at (956) 423-5440.  
LOCATION:
UID:e.1828.3761
SEQUENCE:3
DTSTAMP:20260420T131620Z
URL:https://business.harlingen.com/events/details/facebook-marketing-seminar-06-21-2012-3761
END:VEVENT

END:VCALENDAR
