BEGIN:VCALENDAR
VERSION:2.0
PRODID:-//ChamberMaster//Event Calendar 2.0//EN
METHOD:PUBLISH
X-PUBLISHED-TTL:P3D
REFRESH-INTERVAL:P3D
CALSCALE:GREGORIAN
BEGIN:VEVENT
DTSTART:20120226T010000Z
DTEND:20120226T010000Z
X-MICROSOFT-CDO-ALLDAYEVENT:FALSE
SUMMARY:Faculty Concert: Bob Irby Memorial Music Scholarship Benefit Concert
DESCRIPTION:The music faculty of the Harlingen school district (HCISD) will be hosting a special concert. Proceeds from ticket sales and donations will go towards music college scholarships offered to graduating high school seniors who are planning to major or minor in music.  Please come join us for the concert and support our  music programs.  Tickets: Adults $10\, Senior Adults $8\, Students $2.  Available at the door on the evening of the concert or ahead of time at the HCISD Music Office\, 1409 E. Harrison Rd\, Harlingen TX 78550.  Call for more information at 956-427-3571.
X-ALT-DESC;FMTTYPE=text/html:The music faculty of the Harlingen school district (HCISD) will be hosting a special concert. Proceeds from ticket sales and donations will go towards music college scholarships offered to graduating high school seniors who are planning to major or minor in music.  Please come join us for the concert and support our  music programs.  Tickets: Adults $10\, Senior Adults $8\, Students $2.  Available at the door on the evening of the concert or ahead of time at the HCISD Music Office\, 1409 E. Harrison Rd\, Harlingen TX 78550.  Call for more information at 956-427-3571.
LOCATION:CONCERT: Harlingen Municipal Auditorium\, 1018 Fair Park Blvd\, Harlingen\, TX 78550. TICKETS: Available at the door on the evening of the concert or ahead of time at the HCISD Music Office\, 1409 E. Harrison Rd\, Harlingen TX 78550. Call for more information at 956-427-3571. Adults $10\, Senior Adults $8\, Students $2
UID:e.1828.3265
SEQUENCE:3
DTSTAMP:20260420T213626Z
URL:https://business.harlingen.com/events/details/faculty-concert-bob-irby-memorial-music-scholarship-benefit-concert-02-25-2012-3265
END:VEVENT

END:VCALENDAR
