BEGIN:VCALENDAR
VERSION:2.0
PRODID:-//ChamberMaster//Event Calendar 2.0//EN
METHOD:PUBLISH
X-PUBLISHED-TTL:P3D
REFRESH-INTERVAL:P3D
CALSCALE:GREGORIAN
BEGIN:VEVENT
DTSTART:20120323T140000Z
DTEND:20120323T160000Z
X-MICROSOFT-CDO-ALLDAYEVENT:FALSE
SUMMARY:Fair Labors Standard Act
DESCRIPTION:Attention: Small Business Owners\nAre you aware of your employees' rights?\nThe U.S. Small Business Administration in cooperation with U.S. Department of Labor Wage and Hour Division invite you to attend this informational workshop on FAIR LABORS STANDARD ACT.  Learn about Minimum Wage\, Overtime\, Recordkeeping\, Child Labor Provisions and more.  Come prepared with questions\, as not all industries have the same laws.  Workshop is FREE but seating is limited so you must register.
X-ALT-DESC;FMTTYPE=text/html:Attention: Small Business Owners\nAre you aware of your employees' rights?\nThe U.S. Small Business Administration in cooperation with U.S. Department of Labor Wage and Hour Division invite you to attend this informational workshop on FAIR LABORS STANDARD ACT.  Learn about Minimum Wage\, Overtime\, Recordkeeping\, Child Labor Provisions and more.  Come prepared with questions\, as not all industries have the same laws.  Workshop is FREE but seating is limited so you must register.
LOCATION:222 E. Van Buren Avenue\, Suite 500 Harlingen\, TX 78550 (Bank of America Building\, 5th Floor)
UID:e.1828.3606
SEQUENCE:3
DTSTAMP:20260420T181809Z
URL:https://business.harlingen.com/events/details/fair-labors-standard-act-03-23-2012-3606
END:VEVENT

END:VCALENDAR
