BEGIN:VCALENDAR
VERSION:2.0
PRODID:-//ChamberMaster//Event Calendar 2.0//EN
METHOD:PUBLISH
X-PUBLISHED-TTL:P3D
REFRESH-INTERVAL:P3D
CALSCALE:GREGORIAN
BEGIN:VEVENT
DTSTART:20091017T160000Z
DTEND:20091017T190000Z
X-MICROSOFT-CDO-ALLDAYEVENT:FALSE
SUMMARY:Fajita-Rita Contest Downtown Harlingen
DESCRIPTION:Fajitas and cold margaritas are long time favorites at South Texas barbeques. Come taste the best recipes around at the Fajita-Rita Contest.  Watch the experts cook-off from mid-morning to 3:00 pm at A Catered Affair on Jackson Square. Proceeds to benefit the Children's Miracle Network.  Sponsored by Remax Lonestar. To enter a team\, please call 956-428-9900.  Entry fee pending.
X-ALT-DESC;FMTTYPE=text/html:Fajitas and cold margaritas are long time favorites at South Texas barbeques. Come taste the best recipes around at the Fajita-Rita Contest.  Watch the experts cook-off from mid-morning to 3:00 pm at A Catered Affair on Jackson Square. Proceeds to benefit the Children's Miracle Network.  Sponsored by Remax Lonestar. To enter a team\, please call 956-428-9900.  Entry fee pending.
LOCATION:
UID:e.1828.2050
SEQUENCE:3
DTSTAMP:20260422T112010Z
URL:https://business.harlingen.com/events/details/fajita-rita-contest-downtown-harlingen-10-17-2009-2050
END:VEVENT

END:VCALENDAR
