BEGIN:VCALENDAR
VERSION:2.0
PRODID:-//ChamberMaster//Event Calendar 2.0//EN
METHOD:PUBLISH
X-PUBLISHED-TTL:P3D
REFRESH-INTERVAL:P3D
CALSCALE:GREGORIAN
BEGIN:VEVENT
DTSTART:20101106T130000Z
DTEND:20101106T160000Z
X-MICROSOFT-CDO-ALLDAYEVENT:FALSE
SUMMARY:FALL TRASH BASH 2010
DESCRIPTION:Volunteers are needed to help pick up trash city wide.  When a group signs up\, they will be able to choose a designated area to clean up.  First Come\, First Serve basis only.  Please bring gloves and a lot of enthusiasm.  \nLunch will be provided\, plus refreshments and a free T-shirt for your efforts!  FOR MORE INFORMATION OR \nTO SIGN UP YOUR BUSINESS\,ORGANIZATION OR GROUP\, please call (956) 216-5302  or email – keephgnbeautiful@aol.com by November 4\, 2010.  Thank you for your support and community spirit!!!
X-ALT-DESC;FMTTYPE=text/html:Volunteers are needed to help pick up trash city wide.  When a group signs up\, they will be able to choose a designated area to clean up.  First Come\, First Serve basis only.  Please bring gloves and a lot of enthusiasm.  \nLunch will be provided\, plus refreshments and a free T-shirt for your efforts!  FOR MORE INFORMATION OR \nTO SIGN UP YOUR BUSINESS\,ORGANIZATION OR GROUP\, please call (956) 216-5302  or email – keephgnbeautiful@aol.com by November 4\, 2010.  Thank you for your support and community spirit!!!\n\n
LOCATION:
UID:e.1828.2826
SEQUENCE:3
DTSTAMP:20260421T184932Z
URL:https://business.harlingen.com/events/details/fall-trash-bash-2010-11-06-2010-2826
END:VEVENT

END:VCALENDAR
