BEGIN:VCALENDAR
VERSION:2.0
PRODID:-//ChamberMaster//Event Calendar 2.0//EN
METHOD:PUBLISH
X-PUBLISHED-TTL:P3D
REFRESH-INTERVAL:P3D
CALSCALE:GREGORIAN
BEGIN:VEVENT
DTSTART;VALUE=DATE:20110822
DTEND;VALUE=DATE:20111001
TRANSP:TRANSPARENT
X-MICROSOFT-CDO-ALLDAYEVENT:TRUE
SUMMARY:Fall Troop Gear-Up
DESCRIPTION:Fall Troop Gear-Up\n(August 22 - September 30\, 2011)\nFall is near so let get in Gear!\nSupport our VALLEY TROOPS through the\nFall Troop Gear-Up \ncampaign which is currently underway.\n \nHelp us provide our Valley Troops with a Fall QLP (Quality of Life Package). Along with the regular QLP items\, it is our goal to provide everyone with a fleece blanket\, 2 pairs of socks\, hand and foot warmers\, towel\, and a travel pillow. We need your supply and monetary donations in order to make this possible. Remember\, your donations will help improve the quality of life of our local military serving overseas. All monetary donors will receive a written notice acknowledging their donation. Your monetary donations are much needed and appreciated. Remember to enroll your local loved ones and friends\, to receive the QLP's via www.americanmilitarysupport.com. For a complete list of all items requested for QLP's and a list of drop off locations please refer to the website.
X-ALT-DESC;FMTTYPE=text/html:Fall Troop Gear-Up\n(August 22 - September 30\, 2011)\nFall is near so let get in Gear!\nSupport our VALLEY TROOPS through the\nFall Troop Gear-Up \ncampaign which is currently underway.\n \nHelp us provide our Valley Troops with a Fall QLP (Quality of Life Package). Along with the regular QLP items\, it is our goal to provide everyone with a fleece blanket\, 2 pairs of socks\, hand and foot warmers\, towel\, and a travel pillow. We need your supply and monetary donations in order to make this possible. Remember\, your donations will help improve the quality of life of our local military serving overseas. All monetary donors will receive a written notice acknowledging their donation. Your monetary donations are much needed and appreciated. Remember to enroll your local loved ones and friends\, to receive the QLP's via www.americanmilitarysupport.com. For a complete list of all items requested for QLP's and a list of drop off locations please refer to the website. 
LOCATION:
UID:e.1828.3167
SEQUENCE:3
DTSTAMP:20260421T033730Z
URL:https://business.harlingen.com/events/details/fall-troop-gear-up-08-22-2011-3167
END:VEVENT

END:VCALENDAR
