BEGIN:VCALENDAR
VERSION:2.0
PRODID:-//ChamberMaster//Event Calendar 2.0//EN
METHOD:PUBLISH
X-PUBLISHED-TTL:P3D
REFRESH-INTERVAL:P3D
CALSCALE:GREGORIAN
BEGIN:VEVENT
DTSTART;VALUE=DATE:20090928
DTEND;VALUE=DATE:20091126
TRANSP:TRANSPARENT
X-MICROSOFT-CDO-ALLDAYEVENT:TRUE
SUMMARY:Fall Yoga Sessions - Yoga Center Harlingen
DESCRIPTION:Yoga Sessions September 28th through November 25th.  Monday through Saturday.  All levels of experience.   History & Philisophy of Yoga on October 16 & 17.  Workshops $15 per person.  For complete schedule & more information\, please call Monica Solomon at 956-428-9642.
X-ALT-DESC;FMTTYPE=text/html:Yoga Sessions September 28th through November 25th.  Monday through Saturday.  All levels of experience.   History & Philisophy of Yoga on October 16 & 17.  Workshops $15 per person.  For complete schedule & more information\, please call Monica Solomon at 956-428-9642.
LOCATION:
UID:e.1828.2115
SEQUENCE:3
DTSTAMP:20260422T112225Z
URL:https://business.harlingen.com/events/details/fall-yoga-sessions-yoga-center-harlingen-09-28-2009-2115
END:VEVENT

END:VCALENDAR
