BEGIN:VCALENDAR
VERSION:2.0
PRODID:-//ChamberMaster//Event Calendar 2.0//EN
METHOD:PUBLISH
X-PUBLISHED-TTL:P3D
REFRESH-INTERVAL:P3D
CALSCALE:GREGORIAN
BEGIN:VEVENT
DTSTART:20091015T130000Z
DTEND:20091015T220000Z
X-MICROSOFT-CDO-ALLDAYEVENT:FALSE
SUMMARY:Family Crisis Center 7th Annual Domestic Violence Conference
DESCRIPTION:Family Crisis Center\, Inc.\, in partnership with The Texas Council on Family Violence and Texas State Technical College\, will host the 7th Annual Domestic Violence Conference ''Response\, Accountability\, and Progress 2009'' on Thursday\, October 15\, 2009 from 8AM - 5PM.  CEU's and TCLEOSE available to LCDCs\, CRCs\, LPCs\, Social Workers\, and Law Enforcement.  Early Registration Fee: $10.  MUST BE REGISTERED TO ATTEND\nDeadline for Early Registration: October 9\, 2009 at 5PM.  $15 for those who pay and register at the door.\nPlease make checks payable to Family Crisis Center\, Inc.  For more information\, contact Anna De La Cruz or Teresa Sanchez at 956.423.9305.  No refunds will be issued for registrations received after Thursday\, October 10\, 2009.  If special accommodations are required\, please notify Anna De La Cruz or Teresa Sanchez\nby Monday\,
X-ALT-DESC;FMTTYPE=text/html:Family Crisis Center\, Inc.\, in partnership with The Texas Council on Family Violence and Texas State Technical College\, will host the 7th Annual Domestic Violence Conference ''Response\, Accountability\, and Progress 2009'' on Thursday\, October 15\, 2009 from 8AM - 5PM.  CEU's and TCLEOSE available to LCDCs\, CRCs\, LPCs\, Social Workers\, and Law Enforcement.  Early Registration Fee: $10.  MUST BE REGISTERED TO ATTEND\nDeadline for Early Registration: October 9\, 2009 at 5PM.  $15 for those who pay and register at the door.\nPlease make checks payable to Family Crisis Center\, Inc.  For more information\, contact Anna De La Cruz or Teresa Sanchez at 956.423.9305.  No refunds will be issued for registrations received after Thursday\, October 10\, 2009.  If special accommodations are required\, please notify Anna De La Cruz or Teresa Sanchez\nby Monday\,
LOCATION:
UID:e.1828.2082
SEQUENCE:3
DTSTAMP:20260422T112356Z
URL:https://business.harlingen.com/events/details/family-crisis-center-7th-annual-domestic-violence-conference-10-15-2009-2082
END:VEVENT

END:VCALENDAR
