BEGIN:VCALENDAR
VERSION:2.0
PRODID:-//ChamberMaster//Event Calendar 2.0//EN
METHOD:PUBLISH
X-PUBLISHED-TTL:P3D
REFRESH-INTERVAL:P3D
CALSCALE:GREGORIAN
BEGIN:VEVENT
DTSTART:20101024T010000Z
DTEND:20101023T050000Z
X-MICROSOFT-CDO-ALLDAYEVENT:FALSE
SUMMARY:Family Crisis Center 8th Annual Boot's ‘N' Diamonds Dance
DESCRIPTION:The Family Crisis Center 8th Annual Boot's ‘N' Diamonds Dance will be held Saturday\, October 23\, 2010 from 8 PM to 12 Midnight at the Casa de Amistad located at 1204 Fairpark Blvd.\, Harlingen\, TX.  Join us for a Texas style masquerade featuring the Texas Heat. Masquerade or Halloween costumes are welcome but not required. There will be prizes for the best male and female costumes.  Sponsorship opportunities are available. Contact 423-9304 for additional information or to purchase tickets.
X-ALT-DESC;FMTTYPE=text/html:The Family Crisis Center 8th Annual Boot's ‘N' Diamonds Dance will be held Saturday\, October 23\, 2010 from 8 PM to 12 Midnight at the Casa de Amistad located at 1204 Fairpark Blvd.\, Harlingen\, TX.  Join us for a Texas style masquerade featuring the Texas Heat. Masquerade or Halloween costumes are welcome but not required. There will be prizes for the best male and female costumes.  Sponsorship opportunities are available. Contact 423-9304 for additional information or to purchase tickets.\n
LOCATION:
UID:e.1828.2740
SEQUENCE:3
DTSTAMP:20260421T223434Z
URL:https://business.harlingen.com/events/details/family-crisis-center-8th-annual-boot-s-n-diamonds-dance-10-23-2010-2740
END:VEVENT

END:VCALENDAR
