BEGIN:VCALENDAR
VERSION:2.0
PRODID:-//ChamberMaster//Event Calendar 2.0//EN
METHOD:PUBLISH
X-PUBLISHED-TTL:P3D
REFRESH-INTERVAL:P3D
CALSCALE:GREGORIAN
BEGIN:VEVENT
DTSTART:20091101T010000Z
DTEND:20091031T050000Z
X-MICROSOFT-CDO-ALLDAYEVENT:FALSE
SUMMARY:Family Crisis Center Boots "N" Diamonds Fundraising Dance
DESCRIPTION:Family Crisis Center 7th Annual fundraiser will be a "Nightmare in the Park" on Halloween night at Casa de Amistad.  Costumes are welcome\, but not required.  Music provided by Westside Band. Tickets $25 each or (2) for $40.  To purchase tickets\, or for sponsorship information\, please call Brenda Heredia at 956-367-1963.
X-ALT-DESC;FMTTYPE=text/html:Family Crisis Center 7th Annual fundraiser will be a "Nightmare in the Park" on Halloween night at Casa de Amistad.  Costumes are welcome\, but not required.  Music provided by Westside Band. Tickets $25 each or (2) for $40.  To purchase tickets\, or for sponsorship information\, please call Brenda Heredia at 956-367-1963.
LOCATION:
UID:e.1828.2114
SEQUENCE:3
DTSTAMP:20260422T112316Z
URL:https://business.harlingen.com/events/details/family-crisis-center-boots-n-diamonds-fundraising-dance-10-31-2009-2114
END:VEVENT

END:VCALENDAR
