BEGIN:VCALENDAR
VERSION:2.0
PRODID:-//ChamberMaster//Event Calendar 2.0//EN
METHOD:PUBLISH
X-PUBLISHED-TTL:P3D
REFRESH-INTERVAL:P3D
CALSCALE:GREGORIAN
BEGIN:VEVENT
DTSTART:20120706T160000Z
DTEND:20120706T130000Z
X-MICROSOFT-CDO-ALLDAYEVENT:FALSE
SUMMARY:Family Crisis Center Fundraiser to Help Support Children of Family Violence
DESCRIPTION:BBQ chicken plates with all the fixings:  $7  Take out or eat in and enjoy the atmosphere.  Delivery available on orders of six or more plates to local businesses. \n\nTickets are available at:\nFamily Crisis Center Office:  (956) \nSimply Elegant International Treasures:  (956) 423-1353\nElliot's Custom Golf:  (956) 427-5448\nThe Chamber:  (956) 423-5440
X-ALT-DESC;FMTTYPE=text/html:BBQ chicken plates with all the fixings:  $7  Take out or eat in and enjoy the atmosphere.  Delivery available on orders of six or more plates to local businesses. \n\nTickets are available at:\nFamily Crisis Center Office:  (956) \nSimply Elegant International Treasures:  (956) 423-1353\nElliot's Custom Golf:  (956) 427-5448\nThe Chamber:  (956) 423-5440 \n
LOCATION:
UID:e.1828.3860
SEQUENCE:3
DTSTAMP:20260420T120603Z
URL:https://business.harlingen.com/events/details/family-crisis-center-fundraiser-to-help-support-children-of-family-violence-07-06-2012-3860
END:VEVENT

END:VCALENDAR
