BEGIN:VCALENDAR
VERSION:2.0
PRODID:-//ChamberMaster//Event Calendar 2.0//EN
METHOD:PUBLISH
X-PUBLISHED-TTL:P3D
REFRESH-INTERVAL:P3D
CALSCALE:GREGORIAN
BEGIN:VEVENT
DTSTART:20110925T000000Z
DTEND:20110925T040000Z
X-MICROSOFT-CDO-ALLDAYEVENT:FALSE
SUMMARY:Family Crisis of Harlingen 9th Annual Fundraising Dance
DESCRIPTION:'A RED CARPET AFFAIR" \nA formal affair to support Family Crisis Center featuring music by DJ Nick\, food\, music\, and silent auction.\nThe Family Crisis Center of Cameron & Willacy counties (A United Way Agency) benefits the victims of domestic violence and sexual assault.\n\nTo purchase tickets or to reserve your table\, please call 956-423-9304.
X-ALT-DESC;FMTTYPE=text/html:'A RED CARPET AFFAIR" \nA formal affair to support Family Crisis Center featuring music by DJ Nick\, food\, music\, and silent auction.\nThe Family Crisis Center of Cameron & Willacy counties (A United Way Agency) benefits the victims of domestic violence and sexual assault.\n\nTo purchase tickets or to reserve your table\, please call 956-423-9304.\n
LOCATION:
UID:e.1828.3145
SEQUENCE:3
DTSTAMP:20260421T035415Z
URL:https://business.harlingen.com/events/details/family-crisis-of-harlingen-9th-annual-fundraising-dance-09-24-2011-3145
END:VEVENT

END:VCALENDAR
