BEGIN:VCALENDAR
VERSION:2.0
PRODID:-//ChamberMaster//Event Calendar 2.0//EN
METHOD:PUBLISH
X-PUBLISHED-TTL:P3D
REFRESH-INTERVAL:P3D
CALSCALE:GREGORIAN
BEGIN:VEVENT
DTSTART:20100306T160000Z
DTEND:20100306T220000Z
X-MICROSOFT-CDO-ALLDAYEVENT:FALSE
SUMMARY:Family Fun Day
DESCRIPTION:Calling all families! \nHeart O' the Hills and Camp Stewart in Hunt are hosting a free ''family fun day'' on March 6 and invite families to come and have a great time with us at either location on that Saturday.\nWe will open the gates at 10 a.m. and will receive until 4 p.m. \nWe will have horses to pet and some camp action available. Snacks will be served from 11 to 1.\nWe will be happy to give tours as well of both Heart O' the Hills Camp for Girls and Camp Stewart for Boys. The two camps are just seven miles apart. Both camps accept children ages 6-16.\nRSVP with number attending\, so we can give you directions (we have yet to find a GPS device or Internet map service that knows where we are)!
X-ALT-DESC;FMTTYPE=text/html:Calling all families! \nHeart O' the Hills and Camp Stewart in Hunt are hosting a free ''family fun day'' on March 6 and invite families to come and have a great time with us at either location on that Saturday.\nWe will open the gates at 10 a.m. and will receive until 4 p.m. \nWe will have horses to pet and some camp action available. Snacks will be served from 11 to 1.\nWe will be happy to give tours as well of both Heart O' the Hills Camp for Girls and Camp Stewart for Boys. The two camps are just seven miles apart. Both camps accept children ages 6-16.\nRSVP with number attending\, so we can give you directions (we have yet to find a GPS device or Internet map service that knows where we are)!\n
LOCATION:Call for directions
UID:e.1828.2276
SEQUENCE:3
DTSTAMP:20260422T080807Z
URL:https://business.harlingen.com/events/details/family-fun-day-03-06-2010-2276
END:VEVENT

END:VCALENDAR
