BEGIN:VCALENDAR
VERSION:2.0
PRODID:-//ChamberMaster//Event Calendar 2.0//EN
METHOD:PUBLISH
X-PUBLISHED-TTL:P3D
REFRESH-INTERVAL:P3D
CALSCALE:GREGORIAN
BEGIN:VEVENT
DTSTART:20100619T233000Z
DTEND:20100619T233000Z
X-MICROSOFT-CDO-ALLDAYEVENT:FALSE
SUMMARY:Family Movie Nights
DESCRIPTION:Family Movie Nights Saturday\, June 19\, beginning at 6:30 p.m.  Corner of Jackson & "A" Street in Downtown Harlingen.  Bring your family\, friends\, blankets and lawn chairs for free family entertainment on the corner of Jackson & "A" Street in downtown Harlingen.  Enjoy give-a-ways\, great food\, music and a terrific feature film\, "The Secrets of Jonathan Sperry."  Events start at 6:30 p.m. and include a car show honoring the late Carl Johnson.  Visit www.familymovienights.info for more details.
X-ALT-DESC;FMTTYPE=text/html:Family Movie Nights Saturday\, June 19\, beginning at 6:30 p.m.  Corner of Jackson & "A" Street in Downtown Harlingen.  Bring your family\, friends\, blankets and lawn chairs for free family entertainment on the corner of Jackson & "A" Street in downtown Harlingen.  Enjoy give-a-ways\, great food\, music and a terrific feature film\, "The Secrets of Jonathan Sperry."  Events start at 6:30 p.m. and include a car show honoring the late Carl Johnson.  Visit www.familymovienights.info for more details.\n
LOCATION:Corner of Jackson & "A" Street in Downtown Harlingen
UID:e.1828.2558
SEQUENCE:3
DTSTAMP:20260422T032046Z
URL:https://business.harlingen.com/events/details/family-movie-nights-06-19-2010-2558
END:VEVENT

END:VCALENDAR
