BEGIN:VCALENDAR
VERSION:2.0
PRODID:-//ChamberMaster//Event Calendar 2.0//EN
METHOD:PUBLISH
X-PUBLISHED-TTL:P3D
REFRESH-INTERVAL:P3D
CALSCALE:GREGORIAN
BEGIN:VEVENT
DTSTART:20100717T233000Z
DTEND:20100717T233000Z
X-MICROSOFT-CDO-ALLDAYEVENT:FALSE
SUMMARY:Family Movie Nights
DESCRIPTION:Family Movie Nights Saturday\, July 17\, beginning at 6:30 p.m.  Bring your family\, friends\, blankets and lawn chairs for free family entertainment at the corner of Jackson & "A" Street in downtown Harlingen.  Enjoy give-a-ways\, great food\, music and feature film\, Cutback.  It is the latest hit movie from directors Johnny Remo and Lance Bachelder.  Family Movie Nights is pleased to debut this film.  Visit www.familymovienights.info for more details.
X-ALT-DESC;FMTTYPE=text/html:Family Movie Nights Saturday\, July 17\, beginning at 6:30 p.m.  Bring your family\, friends\, blankets and lawn chairs for free family entertainment at the corner of Jackson & "A" Street in downtown Harlingen.  Enjoy give-a-ways\, great food\, music and feature film\, Cutback.  It is the latest hit movie from directors Johnny Remo and Lance Bachelder.  Family Movie Nights is pleased to debut this film.  Visit www.familymovienights.info for more details.\n\n\n
LOCATION:Corner of Jackson & "A" Street in Downtown Harlingen
UID:e.1828.2561
SEQUENCE:3
DTSTAMP:20260422T015817Z
URL:https://business.harlingen.com/events/details/family-movie-nights-07-17-2010-2561
END:VEVENT

END:VCALENDAR
