BEGIN:VCALENDAR
VERSION:2.0
PRODID:-//ChamberMaster//Event Calendar 2.0//EN
METHOD:PUBLISH
X-PUBLISHED-TTL:P3D
REFRESH-INTERVAL:P3D
CALSCALE:GREGORIAN
BEGIN:VEVENT
DTSTART:20090816T003000Z
DTEND:20090816T033000Z
X-MICROSOFT-CDO-ALLDAYEVENT:FALSE
SUMMARY:Family Movie Nights
DESCRIPTION:Make it a FUN night for everyone! Bring your friends\, family\, lawn chairs and blankets to Family Movie Nights and enjoy our featured film\, ''The Secrets of Jonathan Sperry". Everyone is invited to this FREE family friendly outdoor movie event. Kids are sure to enjoy FREE balloons\, crayons with coloring books and face painting. FREE food and drinks will be available to the first 500 people. Outside food is always welcomed! The fun starts at 7:30 PM on the corner of "A" & Jackson Street in beautiful downtown Harlingen.
X-ALT-DESC;FMTTYPE=text/html:Make it a FUN night for everyone! Bring your friends\, family\, lawn chairs and blankets to Family Movie Nights and enjoy our featured film\, ''The Secrets of Jonathan Sperry". Everyone is invited to this FREE family friendly outdoor movie event. Kids are sure to enjoy FREE balloons\, crayons with coloring books and face painting. FREE food and drinks will be available to the first 500 people. Outside food is always welcomed! The fun starts at 7:30 PM on the corner of "A" & Jackson Street in beautiful downtown Harlingen.
LOCATION:Corner of Jackson & "A" St. - Downtown Harlingen
UID:e.1828.2011
SEQUENCE:3
DTSTAMP:20260422T081011Z
URL:https://business.harlingen.com/events/details/family-movie-nights-08-15-2009-2011
END:VEVENT

END:VCALENDAR
