BEGIN:VCALENDAR
VERSION:2.0
PRODID:-//ChamberMaster//Event Calendar 2.0//EN
METHOD:PUBLISH
X-PUBLISHED-TTL:P3D
REFRESH-INTERVAL:P3D
CALSCALE:GREGORIAN
BEGIN:VEVENT
DTSTART;VALUE=DATE:20120616
DTEND;VALUE=DATE:20120617
TRANSP:TRANSPARENT
X-MICROSOFT-CDO-ALLDAYEVENT:TRUE
SUMMARY:Family Movie Nights 2012
DESCRIPTION:Pre-movie activities:  7:00 p.m.\nMovie:  Approximately 8:30 p.m. \nMovie:  Courageous \nAdmission is FREE!  Bring your blankets and lawn chairs!  For more information\, click here.
X-ALT-DESC;FMTTYPE=text/html:Pre-movie activities:  7:00 p.m.\nMovie:  Approximately 8:30 p.m. \nMovie:  Courageous \nAdmission is FREE!  Bring your blankets and lawn chairs!  For more information\, click here.  \n
LOCATION:
UID:e.1828.3765
SEQUENCE:3
DTSTAMP:20260420T132632Z
URL:https://business.harlingen.com/events/details/family-movie-nights-2012-06-16-2012-3765
END:VEVENT

END:VCALENDAR
