BEGIN:VCALENDAR
VERSION:2.0
PRODID:-//ChamberMaster//Event Calendar 2.0//EN
METHOD:PUBLISH
X-PUBLISHED-TTL:P3D
REFRESH-INTERVAL:P3D
CALSCALE:GREGORIAN
BEGIN:VEVENT
DTSTART:20091114T160000Z
DTEND:20091114T220000Z
X-MICROSOFT-CDO-ALLDAYEVENT:FALSE
SUMMARY:Family Outdoor Archery
DESCRIPTION:Learn about this ancient sport from Rudy Garza with Eagles Nest Archery.  Fun for the entire family.  Come learn about the history of archery\, techniques & safety.  Gear & supplies provided.  Lawn chairs & beach towels are welcome.  Food & beverages will be sold.  (No outside food or beverages please)  FREE & OPEN TO THE PUBLIC.  For more information\, please contact Harlingen Parks & Rec at 956-216-5950.  Another session schedule for November 28.
X-ALT-DESC;FMTTYPE=text/html:Learn about this ancient sport from Rudy Garza with Eagles Nest Archery.  Fun for the entire family.  Come learn about the history of archery\, techniques & safety.  Gear & supplies provided.  Lawn chairs & beach towels are welcome.  Food & beverages will be sold.  (No outside food or beverages please)  FREE & OPEN TO THE PUBLIC.  For more information\, please contact Harlingen Parks & Rec at 956-216-5950.  Another session schedule for November 28.
LOCATION:
UID:e.1828.2086
SEQUENCE:3
DTSTAMP:20260422T143703Z
URL:https://business.harlingen.com/events/details/family-outdoor-archery-11-14-2009-2086
END:VEVENT

END:VCALENDAR
