BEGIN:VCALENDAR
VERSION:2.0
PRODID:-//ChamberMaster//Event Calendar 2.0//EN
METHOD:PUBLISH
X-PUBLISHED-TTL:P3D
REFRESH-INTERVAL:P3D
CALSCALE:GREGORIAN
BEGIN:VEVENT
DTSTART:20091207T210000Z
DTEND:20091208T000000Z
X-MICROSOFT-CDO-ALLDAYEVENT:FALSE
SUMMARY:Farmer's Market
DESCRIPTION:The Farmer's Market will be held every Saturday at the El Mercado Mall from 3 pm to 6 pm.  Enjoy this opportunity to connect with the farmers who provide locally grown fruits & vegetables.
X-ALT-DESC;FMTTYPE=text/html:The Farmer's Market will be held every Saturday at the El Mercado Mall from 3 pm to 6 pm.  Enjoy this opportunity to connect with the farmers who provide locally grown fruits & vegetables. 
LOCATION:Located next to McDonald's Restaraunt at Morgan Blvd & N 77 Sundhine Strip
UID:e.1828.2257
SEQUENCE:3
DTSTAMP:20260422T142900Z
URL:https://business.harlingen.com/events/details/farmer-s-market-12-07-2009-2257
END:VEVENT

END:VCALENDAR
