BEGIN:VCALENDAR
VERSION:2.0
PRODID:-//ChamberMaster//Event Calendar 2.0//EN
METHOD:PUBLISH
X-PUBLISHED-TTL:P3D
REFRESH-INTERVAL:P3D
CALSCALE:GREGORIAN
BEGIN:VEVENT
DTSTART:20120504T230000Z
DTEND:20120505T010000Z
X-MICROSOFT-CDO-ALLDAYEVENT:FALSE
SUMMARY:"Fashion for Passion "
DESCRIPTION:Purse Sale\, Premier Evening of Shopping\, Pampering and Glam\nFriday\, May 4\, 2012\n6:00 p.m. - 8:00 p.m. \n            -and-\nSaturday\, May 5\, 2012\n9:00 a.m. - 12:00 p.m. \n\nTickets $20 per person\nThe Valley Morning Star and the Harlingen Literacy Center are hosting this fundraising event.  To purchase tickets\, you may go to:  http://harlingenliteracy.eventbrite.com/ or you may pick them up at any one of the following locations:\n\nColdwell Banker Impact Properties - 1212 N. Stuart Place Road \nValley Morning Star - 1310 S. Commerce \nLiteracy Center - 101 E. Monroe \nFor more information\, call:  873-0173 (Marcia Kitten)\, 245-1744 (Richard Guerrero)\, or 428-8883 (Literacy Center)
X-ALT-DESC;FMTTYPE=text/html:Purse Sale\, Premier Evening of Shopping\, Pampering and Glam\nFriday\, May 4\, 2012\n6:00 p.m. - 8:00 p.m. \n            -and-\nSaturday\, May 5\, 2012\n9:00 a.m. - 12:00 p.m. \n\nTickets $20 per person\nThe Valley Morning Star and the Harlingen Literacy Center are hosting this fundraising event.  To purchase tickets\, you may go to:  http://harlingenliteracy.eventbrite.com/ or you may pick them up at any one of the following locations:\n\nColdwell Banker Impact Properties - 1212 N. Stuart Place Road \nValley Morning Star - 1310 S. Commerce \nLiteracy Center - 101 E. Monroe \nFor more information\, call:  873-0173 (Marcia Kitten)\, 245-1744 (Richard Guerrero)\, or 428-8883 (Literacy Center)\n
LOCATION:
UID:e.1828.3640
SEQUENCE:3
DTSTAMP:20260420T163400Z
URL:https://business.harlingen.com/events/details/fashion-for-passion-05-04-2012-3640
END:VEVENT

END:VCALENDAR
