BEGIN:VCALENDAR
VERSION:2.0
PRODID:-//ChamberMaster//Event Calendar 2.0//EN
METHOD:PUBLISH
X-PUBLISHED-TTL:P3D
REFRESH-INTERVAL:P3D
CALSCALE:GREGORIAN
BEGIN:VEVENT
DTSTART:20110506T000000Z
DTEND:20110506T020000Z
X-MICROSOFT-CDO-ALLDAYEVENT:FALSE
SUMMARY:Fellowship of Christian Athletes "Influence Banquet"
DESCRIPTION:Fellowship of Christian Athletes "Influence Banquet" \nPresents... Dat Nguyen\n\nTicket information: Tables sponsorship (10 seats) $1000\, Individual $100. Event sponsor package including other annual FCA events available. Call RGV-FCA office for more information (956) 994-1121
X-ALT-DESC;FMTTYPE=text/html:Fellowship of Christian Athletes "Influence Banquet" \nPresents... Dat Nguyen\n\nTicket information: Tables sponsorship (10 seats) $1000\, Individual $100. Event sponsor package including other annual FCA events available. Call RGV-FCA office for more information (956) 994-1121\n
LOCATION:
UID:e.1828.3047
SEQUENCE:3
DTSTAMP:20260421T094642Z
URL:https://business.harlingen.com/events/details/fellowship-of-christian-athletes-influence-banquet-05-05-2011-3047
END:VEVENT

END:VCALENDAR
