BEGIN:VCALENDAR
VERSION:2.0
PRODID:-//ChamberMaster//Event Calendar 2.0//EN
METHOD:PUBLISH
X-PUBLISHED-TTL:P3D
REFRESH-INTERVAL:P3D
CALSCALE:GREGORIAN
BEGIN:VEVENT
DTSTART:20120511T000000Z
DTEND:20120511T020000Z
X-MICROSOFT-CDO-ALLDAYEVENT:FALSE
SUMMARY:Fellowship of Christian Athletes Influence Banquet
DESCRIPTION:Table sponsorship available \nFor more information\, call:  (956) 802-4748
X-ALT-DESC;FMTTYPE=text/html:Table sponsorship available \nFor more information\, call:  (956) 802-4748 \n
LOCATION:
UID:e.1828.3623
SEQUENCE:3
DTSTAMP:20260420T163750Z
URL:https://business.harlingen.com/events/details/fellowship-of-christian-athletes-influence-banquet-05-10-2012-3623
END:VEVENT

END:VCALENDAR
