BEGIN:VCALENDAR
VERSION:2.0
PRODID:-//ChamberMaster//Event Calendar 2.0//EN
METHOD:PUBLISH
X-PUBLISHED-TTL:P3D
REFRESH-INTERVAL:P3D
CALSCALE:GREGORIAN
BEGIN:VEVENT
DTSTART:20121011T000000Z
DTEND:20121011T000000Z
X-MICROSOFT-CDO-ALLDAYEVENT:FALSE
SUMMARY:Fields of Faith
DESCRIPTION:Boggus Stadium \nFields of Faith is a movement that allows students to stand in front of their piers with a challenge to read the word of God daily and to come to faith in Jesus Christ. Bringing everyone in the community together. All churches\, denominations\, schools\, cities come together as one TEAM to communicate the same truth. \nFor more information call (956)-994-1121
X-ALT-DESC;FMTTYPE=text/html:Boggus Stadium \nFields of Faith is a movement that allows students to stand in front of their piers with a challenge to read the word of God daily and to come to faith in Jesus Christ. Bringing everyone in the community together. All churches\, denominations\, schools\, cities come together as one TEAM to communicate the same truth. \nFor more information call (956)-994-1121\n
LOCATION:Boggus Stadium
UID:e.1828.4038
SEQUENCE:3
DTSTAMP:20260420T085450Z
URL:https://business.harlingen.com/events/details/fields-of-faith-10-10-2012-4038
END:VEVENT

END:VCALENDAR
