BEGIN:VCALENDAR
VERSION:2.0
PRODID:-//ChamberMaster//Event Calendar 2.0//EN
METHOD:PUBLISH
X-PUBLISHED-TTL:P3D
REFRESH-INTERVAL:P3D
CALSCALE:GREGORIAN
BEGIN:VEVENT
DTSTART:20120929T190000Z
DTEND:20120929T220000Z
X-MICROSOFT-CDO-ALLDAYEVENT:FALSE
SUMMARY:Fierce and Fabulous Beauty Event
DESCRIPTION:Mingle with our Beauty Experts for FUN interactive sessions on Hair tutorials:  Quick Waves\, Sophisticated Ponytail and Braid into Bun.  There will also be Makeup tutorials: Enchanting Eyes\, Polish your Pout\, Flawless Foundation\, and Savvy Skin Care.  Join us for $10 Eyebrow Waxing and $5 Upper Lip Waxing too!  Chances to win gift cards\, accessories and makeup!  Champagne and cake truffles will be served.
X-ALT-DESC;FMTTYPE=text/html:Mingle with our Beauty Experts for FUN interactive sessions on Hair tutorials:  Quick Waves\, Sophisticated Ponytail and Braid into Bun.  There will also be Makeup tutorials: Enchanting Eyes\, Polish your Pout\, Flawless Foundation\, and Savvy Skin Care.  Join us for $10 Eyebrow Waxing and $5 Upper Lip Waxing too!  Chances to win gift cards\, accessories and makeup!  Champagne and cake truffles will be served.   \n
LOCATION:
UID:e.1828.3993
SEQUENCE:3
DTSTAMP:20260420T124340Z
URL:https://business.harlingen.com/events/details/fierce-and-fabulous-beauty-event-09-29-2012-3993
END:VEVENT

END:VCALENDAR
