BEGIN:VCALENDAR
VERSION:2.0
PRODID:-//ChamberMaster//Event Calendar 2.0//EN
METHOD:PUBLISH
X-PUBLISHED-TTL:P3D
REFRESH-INTERVAL:P3D
CALSCALE:GREGORIAN
BEGIN:VEVENT
DTSTART:20110917T003000Z
DTEND:20110917T003000Z
X-MICROSOFT-CDO-ALLDAYEVENT:FALSE
SUMMARY:Fiestas Patrias Mexicanas 2011 "Grito De Dolores"
DESCRIPTION:Starts 7:30 p.m. (Doors open at 7 p.m.) Harlingen Performing Arts Theatre. Presented By: The City of Harlingen with Special Guest: Consulate of Mexico. Free and open to the public.
X-ALT-DESC;FMTTYPE=text/html:Starts 7:30 p.m. (Doors open at 7 p.m.) Harlingen Performing Arts Theatre. Presented By: The City of Harlingen with Special Guest: Consulate of Mexico. Free and open to the public. \n
LOCATION:
UID:e.1828.3157
SEQUENCE:3
DTSTAMP:20260421T040016Z
URL:https://business.harlingen.com/events/details/fiestas-patrias-mexicanas-2011-grito-de-dolores-09-16-2011-3157
END:VEVENT

END:VCALENDAR
