BEGIN:VCALENDAR
VERSION:2.0
PRODID:-//ChamberMaster//Event Calendar 2.0//EN
METHOD:PUBLISH
X-PUBLISHED-TTL:P3D
REFRESH-INTERVAL:P3D
CALSCALE:GREGORIAN
BEGIN:VEVENT
DTSTART:20110323T163000Z
DTEND:20110323T163000Z
X-MICROSOFT-CDO-ALLDAYEVENT:FALSE
SUMMARY:Fifth Annual Luncheon Style Show
DESCRIPTION:Fifth Annual Luncheon(Black & White Fashion Event with a French Flair)is a fun & fashionable celebration of women.  Guest will enjoy a runway fashion and light fare prepared by Texas State Technical College Culinary Department.
X-ALT-DESC;FMTTYPE=text/html:Fifth Annual Luncheon(Black & White Fashion Event with a French Flair)is a fun & fashionable celebration of women.  Guest will enjoy a runway fashion and light fare prepared by Texas State Technical College Culinary Department.
LOCATION:Texas State Technical College at Cultural Arts Center Harlingen\, Texas
UID:e.1828.2967
SEQUENCE:3
DTSTAMP:20260421T124614Z
URL:https://business.harlingen.com/events/details/fifth-annual-luncheon-style-show-03-23-2011-2967
END:VEVENT

END:VCALENDAR
