BEGIN:VCALENDAR
VERSION:2.0
PRODID:-//ChamberMaster//Event Calendar 2.0//EN
METHOD:PUBLISH
X-PUBLISHED-TTL:P3D
REFRESH-INTERVAL:P3D
CALSCALE:GREGORIAN
BEGIN:VEVENT
DTSTART:20120303T150000Z
DTEND:20120303T210000Z
X-MICROSOFT-CDO-ALLDAYEVENT:FALSE
SUMMARY:First Annual " KIDFIT "/ Junior League of Harlingen
DESCRIPTION:SAVE THE DATE! Junior League of Harlingen Presents the First Annual KIDFIT\nSaturday March 3\, 2012\n9am-3pm\nFair Park\, Harlingen\nJoin the Junior League of Harlingen in a "free to the community" one day event targeted at educating the children and families of our community about healthy lifestyles through diet\, exercise\, and safe play. Food\, fun\, games\, entertainment\, and information from many professionals in the health and wellness community will highlight the family fun-filled day. And don't miss The KIDFIT Fun Run which will kick off the event starting at 7:30am with a 1 mile fun run & 5k Run starting at 8am. Both are open to all ages. Register at www.active.com or Contact Laura Sparks (956)454-7065 lauracsparks@yahoo.com\n\nINTERESTED IN BEING A PART OF KIDFIT? \nKIDFIT is looking for Sponsorships\, Volunteers\, Goody Bag items\, and Donations of all kinds! Contact Ashley Barker (956)459-5393 barkergaggle@gmail.com or Sarah Johnson (903)752-3873
X-ALT-DESC;FMTTYPE=text/html:SAVE THE DATE! Junior League of Harlingen Presents the First Annual KIDFIT\nSaturday March 3\, 2012\n9am-3pm\nFair Park\, Harlingen\nJoin the Junior League of Harlingen in a "free to the community" one day event targeted at educating the children and families of our community about healthy lifestyles through diet\, exercise\, and safe play. Food\, fun\, games\, entertainment\, and information from many professionals in the health and wellness community will highlight the family fun-filled day. And don't miss The KIDFIT Fun Run which will kick off the event starting at 7:30am with a 1 mile fun run & 5k Run starting at 8am. Both are open to all ages. Register at www.active.com or Contact Laura Sparks (956)454-7065 lauracsparks@yahoo.com\n\nINTERESTED IN BEING A PART OF KIDFIT? \nKIDFIT is looking for Sponsorships\, Volunteers\, Goody Bag items\, and Donations of all kinds! Contact Ashley Barker (956)459-5393 barkergaggle@gmail.com or Sarah Johnson (903)752-3873 \n\n\n
LOCATION:
UID:e.1828.3379
SEQUENCE:3
DTSTAMP:20260420T182252Z
URL:https://business.harlingen.com/events/details/first-annual-kidfit-junior-league-of-harlingen-03-03-2012-3379
END:VEVENT

END:VCALENDAR
