BEGIN:VCALENDAR
VERSION:2.0
PRODID:-//ChamberMaster//Event Calendar 2.0//EN
METHOD:PUBLISH
X-PUBLISHED-TTL:P3D
REFRESH-INTERVAL:P3D
CALSCALE:GREGORIAN
BEGIN:VEVENT
DTSTART:20120512T140000Z
DTEND:20120512T160000Z
X-MICROSOFT-CDO-ALLDAYEVENT:FALSE
SUMMARY:First Annual Zumbathon
DESCRIPTION:Edcouch-Elsa ISD and Guerra's Ballroom located at FM 88 and 14 1/2 are partnering to raise money for the American Red Cross - South Texas Chapter by hosting the First Annual Zumbathon.  Patty Avila and others from MaxFitness will be the instructors.  Donations of $10.00 will go to the American Red Cross.
X-ALT-DESC;FMTTYPE=text/html:Edcouch-Elsa ISD and Guerra's Ballroom located at FM 88 and 14 1/2 are partnering to raise money for the American Red Cross - South Texas Chapter by hosting the First Annual Zumbathon.  Patty Avila and others from MaxFitness will be the instructors.  Donations of $10.00 will go to the American Red Cross.  
LOCATION:Guerra's Ballroom is at FM 88 (NORTH) and Mile 14 1/2. It is between Weslaco and Elsa\; however\, it is closer to the Elsa city limits. The 911 address is actually in Weslaco\; however\, we are closer to Elsa's city limits.
UID:e.1828.3647
SEQUENCE:3
DTSTAMP:20260420T150417Z
URL:https://business.harlingen.com/events/details/first-annual-zumbathon-05-12-2012-3647
END:VEVENT

END:VCALENDAR
