BEGIN:VCALENDAR
VERSION:2.0
PRODID:-//ChamberMaster//Event Calendar 2.0//EN
METHOD:PUBLISH
X-PUBLISHED-TTL:P3D
REFRESH-INTERVAL:P3D
CALSCALE:GREGORIAN
BEGIN:VEVENT
DTSTART;VALUE=DATE:20120823
DTEND;VALUE=DATE:20120901
TRANSP:TRANSPARENT
X-MICROSOFT-CDO-ALLDAYEVENT:TRUE
SUMMARY:First Church of the Nazarene Christian Preschool and Child Care Center enrolling for the 2012 - 2013
DESCRIPTION:First Church of the Nazarene Christian Preschool and Child Care Center is now enrolling for the 2012 - 2013 school year.  The school provides loving Christian care in an exciting\, fun-filled environment and uses the A Beka curriculum which provides a foundation built on excellence and Christian character.  In addition to a strong educational program\, there is a gymnasium\, playgrounds and each classroom is equipped with a video monitoring system.  Meals and snacks are provided each day at no additional charge.  \n\nNazarene Christian Childcare Center is open year-round\, Monday through Friday.  Care is provided for infants through Kindergarten age and have an after school program with transportation available at no extra charge.\n\nYou may contact Barbara Clay at (956) 425-2903 for more information.
X-ALT-DESC;FMTTYPE=text/html:First Church of the Nazarene Christian Preschool and Child Care Center is now enrolling for the 2012 - 2013 school year.  The school provides loving Christian care in an exciting\, fun-filled environment and uses the A Beka curriculum which provides a foundation built on excellence and Christian character.  In addition to a strong educational program\, there is a gymnasium\, playgrounds and each classroom is equipped with a video monitoring system.  Meals and snacks are provided each day at no additional charge.  \n\nNazarene Christian Childcare Center is open year-round\, Monday through Friday.  Care is provided for infants through Kindergarten age and have an after school program with transportation available at no extra charge.\n\nYou may contact Barbara Clay at (956) 425-2903 for more information.\n
LOCATION:
UID:e.1828.3942
SEQUENCE:3
DTSTAMP:20260420T120810Z
URL:https://business.harlingen.com/events/details/first-church-of-the-nazarene-christian-preschool-and-child-care-center-enrolling-for-the-2012-2013-08-23-2012-3942
END:VEVENT

END:VCALENDAR
