BEGIN:VCALENDAR
VERSION:2.0
PRODID:-//ChamberMaster//Event Calendar 2.0//EN
METHOD:PUBLISH
X-PUBLISHED-TTL:P3D
REFRESH-INTERVAL:P3D
CALSCALE:GREGORIAN
BEGIN:VEVENT
DTSTART;VALUE=DATE:20120625
DTEND;VALUE=DATE:20120731
TRANSP:TRANSPARENT
X-MICROSOFT-CDO-ALLDAYEVENT:TRUE
SUMMARY:First Church of the Nazarene Preschool and Day Care Center Summer Mini Camps
DESCRIPTION:First Church of the Nazarene Preschool and Day Care Center Summer Mini Camps \nJune 25 - 29:  Volleyball Camp  12:00 p.m. - 3:30 p.m. \nJuly 2 - 6:  Red\, White\, and Blue Week 9:00 a.m. - 12:00  \nJuly 9 - 13:  Sports Camp  12:00 p.m. - 3:30 p.m.\nJuly 16 - 20:  Science Camp  9:00 a.m. - 12:00 p.m.\nJuly 23 - 27:  Pet Care & Safety  9:00 a.m. - 12:00 p.m.\nJuly 30 - August 3:  Cooking Fun  9:00 a.m. - 12:00 p.m. \n2001 N. 7th Street\, Harlingen\nFirst Church of the Nazarene\nAll camps are recreational summer programs for ages 5 - 12 years old.  Cost is $65 per child per camp. For more information\, please contact Barbara Clay at (956) 425-2903.
X-ALT-DESC;FMTTYPE=text/html:First Church of the Nazarene Preschool and Day Care Center Summer Mini Camps \nJune 25 - 29:  Volleyball Camp  12:00 p.m. - 3:30 p.m. \nJuly 2 - 6:  Red\, White\, and Blue Week 9:00 a.m. - 12:00  \nJuly 9 - 13:  Sports Camp  12:00 p.m. - 3:30 p.m.\nJuly 16 - 20:  Science Camp  9:00 a.m. - 12:00 p.m.\nJuly 23 - 27:  Pet Care & Safety  9:00 a.m. - 12:00 p.m.\nJuly 30 - August 3:  Cooking Fun  9:00 a.m. - 12:00 p.m. \n2001 N. 7th Street\, Harlingen\nFirst Church of the Nazarene\nAll camps are recreational summer programs for ages 5 - 12 years old.  Cost is $65 per child per camp. For more information\, please contact Barbara Clay at (956) 425-2903. \n
LOCATION:
UID:e.1828.3857
SEQUENCE:3
DTSTAMP:20260420T133327Z
URL:https://business.harlingen.com/events/details/first-church-of-the-nazarene-preschool-and-day-care-center-summer-mini-camps-06-25-2012-3857
END:VEVENT

END:VCALENDAR
