BEGIN:VCALENDAR
VERSION:2.0
PRODID:-//ChamberMaster//Event Calendar 2.0//EN
METHOD:PUBLISH
X-PUBLISHED-TTL:P3D
REFRESH-INTERVAL:P3D
CALSCALE:GREGORIAN
BEGIN:VEVENT
DTSTART:20120321T223000Z
DTEND:20120321T223000Z
X-MICROSOFT-CDO-ALLDAYEVENT:FALSE
SUMMARY:First Church of the Nazarene Ribbon Cutting of Day Care Facility
DESCRIPTION:Please join us as we celdbrate the additon of their Day Care Center. For information contact Barbara Clay 956-425-2903.
X-ALT-DESC;FMTTYPE=text/html:Please join us as we celdbrate the additon of their Day Care Center. For information contact Barbara Clay 956-425-2903.
LOCATION:
UID:e.1828.3545
SEQUENCE:3
DTSTAMP:20260420T182440Z
URL:https://business.harlingen.com/events/details/first-church-of-the-nazarene-ribbon-cutting-of-day-care-facility-03-21-2012-3545
END:VEVENT

END:VCALENDAR
