BEGIN:VCALENDAR
VERSION:2.0
PRODID:-//ChamberMaster//Event Calendar 2.0//EN
METHOD:PUBLISH
X-PUBLISHED-TTL:P3D
REFRESH-INTERVAL:P3D
CALSCALE:GREGORIAN
BEGIN:VEVENT
DTSTART:20100911T130000Z
DTEND:20100911T170000Z
X-MICROSOFT-CDO-ALLDAYEVENT:FALSE
SUMMARY:First Clean Neighborhoods Event of the Fall Season
DESCRIPTION:Please mark your calendars and make plans to participate in our First Clean Neighborhoods Event of the fall season on Saturday\, September 11\, 2010 from 8:00 am – 12:00 pm at the Wheeling Park Subdivision on North 26th and 27th Streets. Water and insect repellant will be provided.  Wear old clothes that you don't mind getting ruined.  Those should consist of long pants\, sturdy shoes & work gloves.  A hat is highly recommended.  \nClean Neighborhoods is a program to assist residents in cleaning their neighborhoods to promote a clean and safe environment\, with special emphasis on assisting the elderly and disabled.  If you would like to participate\, please call call Mandy Key at 956-216-5302.
X-ALT-DESC;FMTTYPE=text/html:Please mark your calendars and make plans to participate in our First Clean Neighborhoods Event of the fall season on Saturday\, September 11\, 2010 from 8:00 am – 12:00 pm at the Wheeling Park Subdivision on North 26th and 27th Streets. Water and insect repellant will be provided.  Wear old clothes that you don't mind getting ruined.  Those should consist of long pants\, sturdy shoes & work gloves.  A hat is highly recommended.  \nClean Neighborhoods is a program to assist residents in cleaning their neighborhoods to promote a clean and safe environment\, with special emphasis on assisting the elderly and disabled.  If you would like to participate\, please call call Mandy Key at 956-216-5302.\n
LOCATION:Wheeling Park Subdivision on North 26th and 27th Streets
UID:e.1828.2736
SEQUENCE:3
DTSTAMP:20260422T002238Z
URL:https://business.harlingen.com/events/details/first-clean-neighborhoods-event-of-the-fall-season-09-11-2010-2736
END:VEVENT

END:VCALENDAR
