BEGIN:VCALENDAR
VERSION:2.0
PRODID:-//ChamberMaster//Event Calendar 2.0//EN
METHOD:PUBLISH
X-PUBLISHED-TTL:P3D
REFRESH-INTERVAL:P3D
CALSCALE:GREGORIAN
BEGIN:VEVENT
DTSTART:20120829T150000Z
DTEND:20120829T150000Z
X-MICROSOFT-CDO-ALLDAYEVENT:FALSE
SUMMARY:First Community Bank "FIESTA"
DESCRIPTION:Come join the celebration as First Community Bank breaks ground on its new Brownsville Banking Center!
X-ALT-DESC;FMTTYPE=text/html:Come join the celebration as First Community Bank breaks ground on its new Brownsville Banking Center!  
LOCATION:
UID:e.1828.3940
SEQUENCE:3
DTSTAMP:20260420T101402Z
URL:https://business.harlingen.com/events/details/first-community-bank-fiesta-08-29-2012-3940
END:VEVENT

END:VCALENDAR
