BEGIN:VCALENDAR
VERSION:2.0
PRODID:-//ChamberMaster//Event Calendar 2.0//EN
METHOD:PUBLISH
X-PUBLISHED-TTL:P3D
REFRESH-INTERVAL:P3D
CALSCALE:GREGORIAN
BEGIN:VEVENT
DTSTART;VALUE=DATE:20120224
DTEND;VALUE=DATE:20120225
TRANSP:TRANSPARENT
X-MICROSOFT-CDO-ALLDAYEVENT:TRUE
SUMMARY:Fishing with Mark Zona Sweepstakes Bass Pro Shops 2012 Spring Fishing Classics
DESCRIPTION:February 24- Mar 11\nDrawing opportunity is available online or in store. Grand Prize Trip to Traverse City\, Michigan for winner to fish with Mark Zona and opportunity for winner to film and appear in an episode of ''Zonas Awsome Fishing Show''\,  2- day with Mark Zona\, 2-night hotel and travel for winner and one guest\, and a $300 Bass Pro Shops Gift Card\n \nContact information Elizabeth Ulloa Promotions Coordinator mail to:eulloa@basspro.com
X-ALT-DESC;FMTTYPE=text/html:February 24- Mar 11\nDrawing opportunity is available online or in store. Grand Prize Trip to Traverse City\, Michigan for winner to fish with Mark Zona and opportunity for winner to film and appear in an episode of ''Zonas Awsome Fishing Show''\,  2- day with Mark Zona\, 2-night hotel and travel for winner and one guest\, and a $300 Bass Pro Shops Gift Card\n \nContact information Elizabeth Ulloa Promotions Coordinator mail to:eulloa@basspro.com
LOCATION:
UID:e.1828.3510
SEQUENCE:3
DTSTAMP:20260420T213439Z
URL:https://business.harlingen.com/events/details/fishing-with-mark-zona-sweepstakes-bass-pro-shops-2012-spring-fishing-classics-02-24-2012-3510
END:VEVENT

END:VCALENDAR
