BEGIN:VCALENDAR
VERSION:2.0
PRODID:-//ChamberMaster//Event Calendar 2.0//EN
METHOD:PUBLISH
X-PUBLISHED-TTL:P3D
REFRESH-INTERVAL:P3D
CALSCALE:GREGORIAN
BEGIN:VEVENT
DTSTART:20100625T230000Z
DTEND:20100627T030000Z
X-MICROSOFT-CDO-ALLDAYEVENT:FALSE
SUMMARY:Focus Conference 2010
DESCRIPTION:2 Day Youth Conference.  Event starts Friday Night at 6:00pm.  Five local bands will be performing\, including many prize giveaways\, and guests speakers.  Event will continue Saturday night at 5:00pm.  Special honor of having Pastor Peter de Jesus from Cornerstone Church in San Antonio speaking Saturday Night.  Each night will end around 10:00pm.  There is no cost to the event.  Everyone is welcome.  For sponsorship information please contact Luis Cabrera at 956-778-8635.
X-ALT-DESC;FMTTYPE=text/html:2 Day Youth Conference.  Event starts Friday Night at 6:00pm.  Five local bands will be performing\, including many prize giveaways\, and guests speakers.  Event will continue Saturday night at 5:00pm.  Special honor of having Pastor Peter de Jesus from Cornerstone Church in San Antonio speaking Saturday Night.  Each night will end around 10:00pm.  There is no cost to the event.  Everyone is welcome.  For sponsorship information please contact Luis Cabrera at 956-778-8635.
LOCATION:3700 E. Harrison\, behind Cardenas in Harlingen\, in the church sanctuary\, building on the left as you enter Valley Baptist Academy grounds.
UID:e.1828.2546
SEQUENCE:3
DTSTAMP:20260422T030924Z
URL:https://business.harlingen.com/events/details/focus-conference-2010-06-25-2010-2546
END:VEVENT

END:VCALENDAR
