BEGIN:VCALENDAR
VERSION:2.0
PRODID:-//ChamberMaster//Event Calendar 2.0//EN
METHOD:PUBLISH
X-PUBLISHED-TTL:P3D
REFRESH-INTERVAL:P3D
CALSCALE:GREGORIAN
BEGIN:VEVENT
DTSTART:20100209T173000Z
DTEND:20100209T193000Z
X-MICROSOFT-CDO-ALLDAYEVENT:FALSE
SUMMARY:Focus on Estate Conservation
DESCRIPTION:Bring your lunch (we'll provide beverages & desserts) and learn about\n     How to manage your assets during your lifetime\n     Tranfer assets smoothly and reduce family stress.\n     Avoid probate to make sure your wishes are carried out.
X-ALT-DESC;FMTTYPE=text/html:Bring your lunch (we'll provide beverages & desserts) and learn about\n     How to manage your assets during your lifetime\n     Tranfer assets smoothly and reduce family stress.\n     Avoid probate to make sure your wishes are carried out.
LOCATION:On East Jackson between 10th and 11th St. North side of the street. Grace Lutheran Church.
UID:e.1828.2366
SEQUENCE:3
DTSTAMP:20260422T111753Z
URL:https://business.harlingen.com/events/details/focus-on-estate-conservation-02-09-2010-2366
END:VEVENT

END:VCALENDAR
