BEGIN:VCALENDAR
VERSION:2.0
PRODID:-//ChamberMaster//Event Calendar 2.0//EN
METHOD:PUBLISH
X-PUBLISHED-TTL:P3D
REFRESH-INTERVAL:P3D
CALSCALE:GREGORIAN
BEGIN:VEVENT
DTSTART:20091018T190000Z
DTEND:20091018T200000Z
X-MICROSOFT-CDO-ALLDAYEVENT:FALSE
SUMMARY:Folk Medicine and Folk Beliefs (Curanderismo and Yerbas Medicinales) of the Southwest and Mexico
DESCRIPTION:Dr. Eliseo "Cheo" Torres from the University of New Mexico will give a presentation on the popular subject of curanderismo.  This presentation is free to the public and is sponsored through a grant from the Humanities of Texas\, the state affiliate of the National Endowment for the Arts.
X-ALT-DESC;FMTTYPE=text/html:Dr. Eliseo "Cheo" Torres from the University of New Mexico will give a presentation on the popular subject of curanderismo.  This presentation is free to the public and is sponsored through a grant from the Humanities of Texas\, the state affiliate of the National Endowment for the Arts.
LOCATION:Take US 77/83 to International Blvd. Turn right onto Washington St (one way) and the Heritage Complex is on the right hand side. Parking is available nearby.
UID:e.1828.2108
SEQUENCE:3
DTSTAMP:20260422T112558Z
URL:https://business.harlingen.com/events/details/folk-medicine-and-folk-beliefs-curanderismo-and-yerbas-medicinales-of-the-southwest-and-mexico-10-18-2009-2108
END:VEVENT

END:VCALENDAR
