BEGIN:VCALENDAR
VERSION:2.0
PRODID:-//ChamberMaster//Event Calendar 2.0//EN
METHOD:PUBLISH
X-PUBLISHED-TTL:P3D
REFRESH-INTERVAL:P3D
CALSCALE:GREGORIAN
BEGIN:VEVENT
DTSTART:20120229T160000Z
DTEND:20120229T160000Z
X-MICROSOFT-CDO-ALLDAYEVENT:FALSE
SUMMARY:Food Bank RGV Grand Opening & Ribbon Cutting
DESCRIPTION:Special Guest: Commissioner Todd Staples\, TDA\nProgram - Ribbon Cutting - Tours -\nRSVP to Libby\, (956) 682-8101 - libbys@foodbankrgv.com
X-ALT-DESC;FMTTYPE=text/html:Special Guest: Commissioner Todd Staples\, TDA\nProgram - Ribbon Cutting - Tours -\nRSVP to Libby\, (956) 682-8101 - libbys@foodbankrgv.com  \n
LOCATION:
UID:e.1828.3461
SEQUENCE:3
DTSTAMP:20260420T213653Z
URL:https://business.harlingen.com/events/details/food-bank-rgv-grand-opening-ribbon-cutting-02-29-2012-3461
END:VEVENT

END:VCALENDAR
