BEGIN:VCALENDAR
VERSION:2.0
PRODID:-//ChamberMaster//Event Calendar 2.0//EN
METHOD:PUBLISH
X-PUBLISHED-TTL:P3D
REFRESH-INTERVAL:P3D
CALSCALE:GREGORIAN
BEGIN:VEVENT
DTSTART:20100213T000000Z
DTEND:20100213T000000Z
X-MICROSOFT-CDO-ALLDAYEVENT:FALSE
SUMMARY:For the Love of Letters Workshop
DESCRIPTION:The Brownsville Historical Association cordially invites you to spend a romantic evening with them.  On Friday\, February 12\, at 6 pm\, the BHA will host a love letter writing workshop just in time for Valentine's Day. The cost is $3 for non-members and free for members.\n\nDuring the Victorian era\, letters were used to express every type of emotion\, but most especially and perhaps most importantly\, love. Although letter writing may not be as common today as it was in the past\, it can still bring happiness to both the sender and receiver.  \n\nJoin Jenny Ashley\, graduate assistant at UTB-TSC\, as she leads a workshop designed to tell the history of the love letter using real life love stories. Also\, get a chance to let your feelings out by writing your own love letter to someone special in your life. \n\nEnjoy strawberries and champagne\, along with a 15% discount on the book\, For the Love of Letters by Samara O'Shea.
X-ALT-DESC;FMTTYPE=text/html:The Brownsville Historical Association cordially invites you to spend a romantic evening with them.  On Friday\, February 12\, at 6 pm\, the BHA will host a love letter writing workshop just in time for Valentine's Day. The cost is $3 for non-members and free for members.\n\nDuring the Victorian era\, letters were used to express every type of emotion\, but most especially and perhaps most importantly\, love. Although letter writing may not be as common today as it was in the past\, it can still bring happiness to both the sender and receiver.  \n\nJoin Jenny Ashley\, graduate assistant at UTB-TSC\, as she leads a workshop designed to tell the history of the love letter using real life love stories. Also\, get a chance to let your feelings out by writing your own love letter to someone special in your life. \n\nEnjoy strawberries and champagne\, along with a 15% discount on the book\, For the Love of Letters by Samara O'Shea.\n
LOCATION:Brownsville Heritage Complex 1325 E. Washington St. Brownsville\, TX 78520
UID:e.1828.2341
SEQUENCE:3
DTSTAMP:20260422T093912Z
URL:https://business.harlingen.com/events/details/for-the-love-of-letters-workshop-02-12-2010-2341
END:VEVENT

END:VCALENDAR
