BEGIN:VCALENDAR
VERSION:2.0
PRODID:-//ChamberMaster//Event Calendar 2.0//EN
METHOD:PUBLISH
X-PUBLISHED-TTL:P3D
REFRESH-INTERVAL:P3D
CALSCALE:GREGORIAN
BEGIN:VEVENT
DTSTART:20121003T223000Z
DTEND:20121003T223000Z
X-MICROSOFT-CDO-ALLDAYEVENT:FALSE
SUMMARY:Four Sweet Sisters Bakery Ribbon Cutting
DESCRIPTION:Join us for our ribbon cutting!  We will be serving some of our baked goods and refreshments!
X-ALT-DESC;FMTTYPE=text/html:Join us for our ribbon cutting!  We will be serving some of our baked goods and refreshments!    \n  \n
LOCATION:
UID:e.1828.4001
SEQUENCE:3
DTSTAMP:20260420T085831Z
URL:https://business.harlingen.com/events/details/four-sweet-sisters-bakery-ribbon-cutting-10-03-2012-4001
END:VEVENT

END:VCALENDAR
